BEGIN:VCALENDAR
VERSION:2.0
PRODID:-//Zum Adeligen Holze - ECPv6.15.20//NONSGML v1.0//EN
CALSCALE:GREGORIAN
METHOD:PUBLISH
X-ORIGINAL-URL:https://zumadeligenholze.de
X-WR-CALDESC:Veranstaltungen für Zum Adeligen Holze
REFRESH-INTERVAL;VALUE=DURATION:PT1H
X-Robots-Tag:noindex
X-PUBLISHED-TTL:PT1H
BEGIN:VTIMEZONE
TZID:UTC
BEGIN:STANDARD
TZOFFSETFROM:+0000
TZOFFSETTO:+0000
TZNAME:UTC
DTSTART:20240101T000000
END:STANDARD
END:VTIMEZONE
BEGIN:VEVENT
DTSTART;VALUE=DATE:20250529
DTEND;VALUE=DATE:20250530
DTSTAMP:20260423T210514
CREATED:20250505T144644Z
LAST-MODIFIED:20250505T154127Z
UID:965-1748476800-1748563199@zumadeligenholze.de
SUMMARY:VATERTAG Grillparty Open Air
DESCRIPTION:
URL:https://zumadeligenholze.de/event/vatertag-grillparty-open-air-2
LOCATION:Zum Adeligen Holze\, Westerwischer Straße 88\, Thedinghausen\, 27321\, Deutschland
ORGANIZER;CN="Zum Adeligen Holze":MAILTO:info@zumadeligenholze.de
END:VEVENT
END:VCALENDAR