BEGIN:VCALENDAR
VERSION:2.0
PRODID:-//Zum Adeligen Holze - ECPv6.15.13//NONSGML v1.0//EN
CALSCALE:GREGORIAN
METHOD:PUBLISH
X-ORIGINAL-URL:https://zumadeligenholze.de
X-WR-CALDESC:Veranstaltungen für Zum Adeligen Holze
REFRESH-INTERVAL;VALUE=DURATION:PT1H
X-Robots-Tag:noindex
X-PUBLISHED-TTL:PT1H
BEGIN:VTIMEZONE
TZID:UTC
BEGIN:STANDARD
TZOFFSETFROM:+0000
TZOFFSETTO:+0000
TZNAME:UTC
DTSTART:20240101T000000
END:STANDARD
END:VTIMEZONE
BEGIN:VEVENT
DTSTART;TZID=UTC:20251227T183000
DTEND;TZID=UTC:20251227T183000
DTSTAMP:20260421T160154
CREATED:20251219T221156Z
LAST-MODIFIED:20251219T221156Z
UID:1043-1766860200-1766860200@zumadeligenholze.de
SUMMARY:Bradog
DESCRIPTION:
URL:https://zumadeligenholze.de/event/bradog
LOCATION:Zum Adeligen Holze\, Westerwischer Straße 88\, Thedinghausen\, 27321\, Deutschland
ORGANIZER;CN="Zum Adeligen Holze":MAILTO:info@zumadeligenholze.de
END:VEVENT
END:VCALENDAR